BEGIN:VCALENDAR
VERSION:2.0
PRODID:-//Tail Waggin Dog Training - ECPv6.15.18//NONSGML v1.0//EN
CALSCALE:GREGORIAN
METHOD:PUBLISH
X-WR-CALNAME:Tail Waggin Dog Training
X-ORIGINAL-URL:https://tailwaggindogtraining.com
X-WR-CALDESC:Events for Tail Waggin Dog Training
REFRESH-INTERVAL;VALUE=DURATION:PT1H
X-Robots-Tag:noindex
X-PUBLISHED-TTL:PT1H
BEGIN:VTIMEZONE
TZID:America/New_York
BEGIN:DAYLIGHT
TZOFFSETFROM:-0500
TZOFFSETTO:-0400
TZNAME:EDT
DTSTART:20250309T070000
END:DAYLIGHT
BEGIN:STANDARD
TZOFFSETFROM:-0400
TZOFFSETTO:-0500
TZNAME:EST
DTSTART:20251102T060000
END:STANDARD
BEGIN:DAYLIGHT
TZOFFSETFROM:-0500
TZOFFSETTO:-0400
TZNAME:EDT
DTSTART:20260308T070000
END:DAYLIGHT
BEGIN:STANDARD
TZOFFSETFROM:-0400
TZOFFSETTO:-0500
TZNAME:EST
DTSTART:20261101T060000
END:STANDARD
BEGIN:DAYLIGHT
TZOFFSETFROM:-0500
TZOFFSETTO:-0400
TZNAME:EDT
DTSTART:20270314T070000
END:DAYLIGHT
BEGIN:STANDARD
TZOFFSETFROM:-0400
TZOFFSETTO:-0500
TZNAME:EST
DTSTART:20271107T060000
END:STANDARD
END:VTIMEZONE
BEGIN:VEVENT
DTSTART;TZID=America/New_York:20260425T114500
DTEND;TZID=America/New_York:20260425T123000
DTSTAMP:20260419T120500
CREATED:20260228T091601Z
LAST-MODIFIED:20260418T155446Z
UID:29366-1777117500-1777120200@tailwaggindogtraining.com
SUMMARY:Puppy Social
DESCRIPTION:
URL:https://tailwaggindogtraining.com/event/puppy-social-6/
LOCATION:79 Theophilis Smith Rd\, South Dennis\, MA\, United States
CATEGORIES:Ongoing Classes
END:VEVENT
BEGIN:VEVENT
DTSTART;TZID=America/New_York:20260427T164500
DTEND;TZID=America/New_York:20260427T174500
DTSTAMP:20260419T120500
CREATED:20251115T005858Z
LAST-MODIFIED:20260314T111513Z
UID:27897-1777308300-1777311900@tailwaggindogtraining.com
SUMMARY:Nosework®
DESCRIPTION:
URL:https://tailwaggindogtraining.com/event/nosework-16/
LOCATION:Lower Cape Tv 5 Namskaket Rd\, Orleans\, MA\, United States
CATEGORIES:Ongoing Classes
END:VEVENT
BEGIN:VEVENT
DTSTART;TZID=America/New_York:20260427T170000
DTEND;TZID=America/New_York:20260427T180000
DTSTAMP:20260419T120500
CREATED:20250207T150003Z
LAST-MODIFIED:20251108T004127Z
UID:24759-1777309200-1777312800@tailwaggindogtraining.com
SUMMARY:Nosework® Advanced
DESCRIPTION:
URL:https://tailwaggindogtraining.com/event/nosework-advanced-366/
LOCATION:MA
CATEGORIES:Ongoing Classes
END:VEVENT
BEGIN:VEVENT
DTSTART;TZID=America/New_York:20260427T170000
DTEND;TZID=America/New_York:20260427T180000
DTSTAMP:20260419T120500
CREATED:20251115T005855Z
LAST-MODIFIED:20260314T111511Z
UID:27896-1777309200-1777312800@tailwaggindogtraining.com
SUMMARY:Nosework® Advanced **NEW LOCATION
DESCRIPTION:
URL:https://tailwaggindogtraining.com/event/nosework-advanced-new-location-16/
LOCATION:Lower Cape Tv 5 Namskaket Rd\, Orleans\, MA\, United States
CATEGORIES:Ongoing Classes
END:VEVENT
BEGIN:VEVENT
DTSTART;TZID=America/New_York:20260427T171500
DTEND;TZID=America/New_York:20260427T181500
DTSTAMP:20260419T120500
CREATED:20260321T121321Z
LAST-MODIFIED:20260418T155452Z
UID:29632-1777310100-1777313700@tailwaggindogtraining.com
SUMMARY:Nosework® Intro **New Location
DESCRIPTION:
URL:https://tailwaggindogtraining.com/event/nosework-intro-new-location-7/
LOCATION:Lower Cape Tv 5 Namskaket Rd\, Orleans\, MA\, United States
CATEGORIES:Ongoing Classes
END:VEVENT
BEGIN:VEVENT
DTSTART;TZID=America/New_York:20260427T171500
DTEND;TZID=America/New_York:20260427T181500
DTSTAMP:20260419T120500
CREATED:20260321T121323Z
LAST-MODIFIED:20260418T155448Z
UID:29633-1777310100-1777313700@tailwaggindogtraining.com
SUMMARY:Nosework® Odor
DESCRIPTION:
URL:https://tailwaggindogtraining.com/event/nosework-odor-442/
LOCATION:Cape Cod Veterinary Specialists 79 Theophilis Smith Rd\, South Dennis\, MA\, United States
CATEGORIES:Ongoing Classes
END:VEVENT
BEGIN:VEVENT
DTSTART;TZID=America/New_York:20260427T181500
DTEND;TZID=America/New_York:20260427T191500
DTSTAMP:20260419T120500
CREATED:20250207T150004Z
LAST-MODIFIED:20251108T004127Z
UID:24760-1777313700-1777317300@tailwaggindogtraining.com
SUMMARY:Intro to Nosework® Odor
DESCRIPTION:
URL:https://tailwaggindogtraining.com/event/intro-to-nosework-odor-64/
LOCATION:Cape Cod Veterinary Specialists 79 Theophilis Smith Rd\, South Dennis\, MA\, United States
CATEGORIES:Ongoing Classes
END:VEVENT
BEGIN:VEVENT
DTSTART;TZID=America/New_York:20260427T181500
DTEND;TZID=America/New_York:20260427T191500
DTSTAMP:20260419T120500
CREATED:20251115T005858Z
LAST-MODIFIED:20260314T111519Z
UID:27899-1777313700-1777317300@tailwaggindogtraining.com
SUMMARY:Nosework® Odor
DESCRIPTION:
URL:https://tailwaggindogtraining.com/event/nosework-odor-288/
LOCATION:Cape Cod Veterinary Specialists 79 Theophilis Smith Rd\, South Dennis\, MA\, United States
CATEGORIES:Ongoing Classes
END:VEVENT
BEGIN:VEVENT
DTSTART;TZID=America/New_York:20260427T182000
DTEND;TZID=America/New_York:20260427T192000
DTSTAMP:20260419T120500
CREATED:20260321T121327Z
LAST-MODIFIED:20260418T155456Z
UID:29634-1777314000-1777317600@tailwaggindogtraining.com
SUMMARY:Nosework® Intro  **NEW LOCATION
DESCRIPTION:
URL:https://tailwaggindogtraining.com/event/nosework-intro-new-location-8/
LOCATION:Lower Cape Tv 5 Namskaket Rd\, Orleans\, MA\, United States
CATEGORIES:Ongoing Classes
END:VEVENT
BEGIN:VEVENT
DTSTART;TZID=America/New_York:20260427T183000
DTEND;TZID=America/New_York:20260427T193000
DTSTAMP:20260419T120500
CREATED:20251115T005858Z
LAST-MODIFIED:20260314T111516Z
UID:27898-1777314600-1777318200@tailwaggindogtraining.com
SUMMARY:Rally Drop In **NEW LOCATION
DESCRIPTION:
URL:https://tailwaggindogtraining.com/event/rally-drop-in-new-location-37/
LOCATION:Lower Cape Tv 5 Namskaket Rd\, Orleans\, MA\, United States
CATEGORIES:Ongoing Classes
END:VEVENT
BEGIN:VEVENT
DTSTART;TZID=America/New_York:20260427T193000
DTEND;TZID=America/New_York:20260427T203000
DTSTAMP:20260419T120501
CREATED:20250207T150005Z
LAST-MODIFIED:20250516T182926Z
UID:24761-1777318200-1777321800@tailwaggindogtraining.com
SUMMARY:Intro to K9 Nosework New Session
DESCRIPTION:
URL:https://tailwaggindogtraining.com/event/intro-to-k9-nosework-new-session-116/
LOCATION:Cape Cod Veterinary Specialists 79 Theophilis Smith Rd\, South Dennis\, MA\, United States
CATEGORIES:Ongoing Classes
END:VEVENT
BEGIN:VEVENT
DTSTART;TZID=America/New_York:20260427T193000
DTEND;TZID=America/New_York:20260427T203000
DTSTAMP:20260419T120501
CREATED:20250523T184453Z
LAST-MODIFIED:20251108T004128Z
UID:26436-1777318200-1777321800@tailwaggindogtraining.com
SUMMARY:Intro to K9 Nosework
DESCRIPTION:
URL:https://tailwaggindogtraining.com/event/intro-to-k9-nosework-260/
LOCATION:Cape Cod Veterinary Specialists 79 Theophilis Smith Rd\, South Dennis\, MA\, United States
CATEGORIES:Ongoing Classes
END:VEVENT
BEGIN:VEVENT
DTSTART;TZID=America/New_York:20260427T193000
DTEND;TZID=America/New_York:20260427T203000
DTSTAMP:20260419T120501
CREATED:20251115T005859Z
LAST-MODIFIED:20260418T155502Z
UID:27900-1777318200-1777321800@tailwaggindogtraining.com
SUMMARY:Nosework Odor
DESCRIPTION:
URL:https://tailwaggindogtraining.com/event/nosework-odor-289/
LOCATION:Cape Cod Veterinary Specialists 79 Theophilis Smith Rd\, South Dennis\, MA\, United States
CATEGORIES:Ongoing Classes
END:VEVENT
BEGIN:VEVENT
DTSTART;TZID=America/New_York:20260427T193000
DTEND;TZID=America/New_York:20260427T210000
DTSTAMP:20260419T120501
CREATED:20260321T121334Z
LAST-MODIFIED:20260418T155459Z
UID:29635-1777318200-1777323600@tailwaggindogtraining.com
SUMMARY:Rally Drop In **NEW LOCATION
DESCRIPTION:
URL:https://tailwaggindogtraining.com/event/rally-drop-in-new-location-190/
LOCATION:Lower Cape Tv 5 Namskaket Rd\, Orleans\, MA\, United States
CATEGORIES:Ongoing Classes
END:VEVENT
BEGIN:VEVENT
DTSTART;TZID=America/New_York:20260427T194500
DTEND;TZID=America/New_York:20260427T204500
DTSTAMP:20260419T120501
CREATED:20251115T005900Z
LAST-MODIFIED:20260314T111524Z
UID:27901-1777319100-1777322700@tailwaggindogtraining.com
SUMMARY:Rally Drop In **NEW LOCATION
DESCRIPTION:
URL:https://tailwaggindogtraining.com/event/rally-drop-in-new-location-38/
LOCATION:Lower Cape Tv 5 Namskaket Rd\, Orleans\, MA\, United States
CATEGORIES:Ongoing Classes
END:VEVENT
BEGIN:VEVENT
DTSTART;TZID=America/New_York:20260428T173000
DTEND;TZID=America/New_York:20260428T181500
DTSTAMP:20260419T120501
CREATED:20260315T234005Z
LAST-MODIFIED:20260315T234005Z
UID:29602-1777397400-1777400100@tailwaggindogtraining.com
SUMMARY:Puppy Kindergarten - New Session 04/28/26
DESCRIPTION:** MUST BRING A COPY OF VACCINE HISTORY TO THE FIRST CLASS**\nPlease leave your puppy at home for the first class.\nThis is a 6 week class that recurs weekly. Classes are 45 minutes long. \n  \nREGISTER HERE\n  \nPlease note: No refunds after a session starts.\nClasses are held at: \nCape Cod Veterinary Specialists Dennis \n79 Theophilus F. Smith Road \nSouth Dennis\, MA 02660 \n*Classes are held in basement with parking out back. \nIf class is full\, please e-mail to be placed on a waiting list.
URL:https://tailwaggindogtraining.com/event/puppy-kindergarten-04-28-26/
LOCATION:Cape Cod Veterinary Specialists Dennis\, 79 Theophilus F. Smith Road\, South Dennis\, MA\, 02660\, United States
CATEGORIES:First Class
END:VEVENT
BEGIN:VEVENT
DTSTART;TZID=America/New_York:20260428T183000
DTEND;TZID=America/New_York:20260428T191500
DTSTAMP:20260419T120501
CREATED:20260315T234631Z
LAST-MODIFIED:20260315T234631Z
UID:29607-1777401000-1777403700@tailwaggindogtraining.com
SUMMARY:Manners I - New Session 04-28-26
DESCRIPTION:** MUST BRING A COPY OF VACCINE HISTORY TO THE FIRST CLASS**\nThis is a 6 week class that recurs weekly. NOTE: Classes are 45 minutes. \n  \nREGISTER HERE\n  \nPlease note: No refunds after a session starts.\nClasses are held at: \nCape Cod Veterinary Specialists Dennis \n79 Theophilus F. Smith Road \nSouth Dennis\, MA 02660 \n*Classes are held in basement with parking out back. \nIf class is full\, please e-mail to be placed on a waiting list.
URL:https://tailwaggindogtraining.com/event/manners-i-new-session-04-28-26/
LOCATION:Cape Cod Veterinary Specialists Dennis\, 79 Theophilus F. Smith Road\, South Dennis\, MA\, 02660\, United States
CATEGORIES:First Class
END:VEVENT
BEGIN:VEVENT
DTSTART;TZID=America/New_York:20260428T193000
DTEND;TZID=America/New_York:20260428T201500
DTSTAMP:20260419T120501
CREATED:20260228T091622Z
LAST-MODIFIED:20260418T155505Z
UID:29367-1777404600-1777407300@tailwaggindogtraining.com
SUMMARY:Manners II
DESCRIPTION:Register Here
URL:https://tailwaggindogtraining.com/event/manners-ii-146/
LOCATION:Cape Cod Veterinary Specialists 79 Theophilis Smith Rd\, South Dennis\, MA\, United States
CATEGORIES:Ongoing Classes
END:VEVENT
BEGIN:VEVENT
DTSTART;TZID=America/New_York:20260429T053000
DTEND;TZID=America/New_York:20260429T061500
DTSTAMP:20260419T120501
CREATED:20251115T005900Z
LAST-MODIFIED:20260221T081819Z
UID:27902-1777440600-1777443300@tailwaggindogtraining.com
SUMMARY:Manners I
DESCRIPTION:Register Here
URL:https://tailwaggindogtraining.com/event/manners-i-784/
LOCATION:Cape Cod Veterinary Specialists\n79 Theophilis Smith Rd\nSouth Dennis MA 02660\nUnited States
CATEGORIES:Ongoing Classes
END:VEVENT
BEGIN:VEVENT
DTSTART;TZID=America/New_York:20260429T173000
DTEND;TZID=America/New_York:20260429T181500
DTSTAMP:20260419T120501
CREATED:20251115T005901Z
LAST-MODIFIED:20260418T155509Z
UID:27903-1777483800-1777486500@tailwaggindogtraining.com
SUMMARY:Puppy K
DESCRIPTION:Register Here
URL:https://tailwaggindogtraining.com/event/puppy-k-508/
LOCATION:Cape Cod Veterinary Specialists 79 Theophilis Smith Rd\, South Dennis\, MA\, United States
CATEGORIES:Ongoing Classes
END:VEVENT
BEGIN:VEVENT
DTSTART;TZID=America/New_York:20260429T183000
DTEND;TZID=America/New_York:20260429T191500
DTSTAMP:20260419T120501
CREATED:20260228T091627Z
LAST-MODIFIED:20260418T155515Z
UID:29368-1777487400-1777490100@tailwaggindogtraining.com
SUMMARY:Manners I
DESCRIPTION:Register Here
URL:https://tailwaggindogtraining.com/event/manners-i-794/
LOCATION:Cape Cod Veterinary Specialists\n79 Theophilis Smith Rd\nSouth Dennis MA 02660\nUnited States
CATEGORIES:Ongoing Classes
END:VEVENT
BEGIN:VEVENT
DTSTART;TZID=America/New_York:20260429T193000
DTEND;TZID=America/New_York:20260429T201500
DTSTAMP:20260419T120501
CREATED:20260228T091631Z
LAST-MODIFIED:20260418T155519Z
UID:29369-1777491000-1777493700@tailwaggindogtraining.com
SUMMARY:CGC Prep
DESCRIPTION:
URL:https://tailwaggindogtraining.com/event/cgc-prep-23/
LOCATION:79 Theophilis Smith Rd\, South Dennis\, MA\, United States
CATEGORIES:Ongoing Classes
END:VEVENT
BEGIN:VEVENT
DTSTART;TZID=America/New_York:20260430T171500
DTEND;TZID=America/New_York:20260430T181500
DTSTAMP:20260419T120501
CREATED:20251108T004128Z
LAST-MODIFIED:20260418T155522Z
UID:27545-1777569300-1777572900@tailwaggindogtraining.com
SUMMARY:Nosework® Advanced
DESCRIPTION:
URL:https://tailwaggindogtraining.com/event/nosework-advanced-549/
LOCATION:Cape Cod Veterinary Specialists 79 Theophilis Smith Rd\, South Dennis\, MA\, United States
CATEGORIES:Ongoing Classes
END:VEVENT
BEGIN:VEVENT
DTSTART;TZID=America/New_York:20260430T183000
DTEND;TZID=America/New_York:20260430T193000
DTSTAMP:20260419T120501
CREATED:20250207T150005Z
LAST-MODIFIED:20260321T121349Z
UID:24762-1777573800-1777577400@tailwaggindogtraining.com
SUMMARY:Intro to K9 Nosework
DESCRIPTION:
URL:https://tailwaggindogtraining.com/event/intro-to-k9-nosework-158/
LOCATION:MA
CATEGORIES:Ongoing Classes
END:VEVENT
BEGIN:VEVENT
DTSTART;TZID=America/New_York:20260430T183000
DTEND;TZID=America/New_York:20260430T193000
DTSTAMP:20260419T120501
CREATED:20260328T125817Z
LAST-MODIFIED:20260418T155527Z
UID:30010-1777573800-1777577400@tailwaggindogtraining.com
SUMMARY:Intro to K9 Nosework
DESCRIPTION:
URL:https://tailwaggindogtraining.com/event/intro-to-k9-nosework-370/
LOCATION:Cape Cod Veterinary Specialist Dennis \n79 Theophilus F. Smith Road\nSouth Dennis MA 02660\nUnited States
CATEGORIES:Ongoing Classes
END:VEVENT
BEGIN:VEVENT
DTSTART;TZID=America/New_York:20260430T194500
DTEND;TZID=America/New_York:20260430T204500
DTSTAMP:20260419T120501
CREATED:20250207T150006Z
LAST-MODIFIED:20260418T155530Z
UID:24763-1777578300-1777581900@tailwaggindogtraining.com
SUMMARY:Nosework® Advanced
DESCRIPTION:
URL:https://tailwaggindogtraining.com/event/nosework-advanced-367/
LOCATION:Cape Cod Veterinary Specialists 79 Theophilis Smith Rd\, South Dennis\, MA\, United States
CATEGORIES:Ongoing Classes
END:VEVENT
BEGIN:VEVENT
DTSTART;TZID=America/New_York:20260501T171500
DTEND;TZID=America/New_York:20260501T181500
DTSTAMP:20260419T120501
CREATED:20250801T211435Z
LAST-MODIFIED:20260418T155533Z
UID:26928-1777655700-1777659300@tailwaggindogtraining.com
SUMMARY:Intro to Rally
DESCRIPTION:
URL:https://tailwaggindogtraining.com/event/intro-to-rally-44/
LOCATION:79 Theophilis Smith Rd\, South Dennis\, MA\, United States
CATEGORIES:Ongoing Classes
END:VEVENT
BEGIN:VEVENT
DTSTART;TZID=America/New_York:20260501T183000
DTEND;TZID=America/New_York:20260501T193000
DTSTAMP:20260419T120501
CREATED:20250228T154623Z
LAST-MODIFIED:20260418T155539Z
UID:25563-1777660200-1777663800@tailwaggindogtraining.com
SUMMARY:Rally Novice Drop in
DESCRIPTION:
URL:https://tailwaggindogtraining.com/event/rally-novice-drop-in-51/
LOCATION:MA
CATEGORIES:Ongoing Classes
END:VEVENT
BEGIN:VEVENT
DTSTART;TZID=America/New_York:20260502T093000
DTEND;TZID=America/New_York:20260502T101500
DTSTAMP:20260419T120501
CREATED:20260228T091647Z
LAST-MODIFIED:20260418T155541Z
UID:29370-1777714200-1777716900@tailwaggindogtraining.com
SUMMARY:Puppy K
DESCRIPTION:Register Here
URL:https://tailwaggindogtraining.com/event/puppy-k-518/
LOCATION:79 Theophilis Smith Rd\, South Dennis\, MA\, United States
CATEGORIES:Ongoing Classes
END:VEVENT
BEGIN:VEVENT
DTSTART;TZID=America/New_York:20260502T103000
DTEND;TZID=America/New_York:20260502T111500
DTSTAMP:20260419T120501
CREATED:20260228T091649Z
LAST-MODIFIED:20260418T155544Z
UID:29371-1777717800-1777720500@tailwaggindogtraining.com
SUMMARY:Manners I (Paul Chiano)
DESCRIPTION:Register Here
URL:https://tailwaggindogtraining.com/event/manners-i-paul-chiano-47/
LOCATION:79 Theophilis Smith Rd\, South Dennis\, MA\, United States
CATEGORIES:Ongoing Classes
END:VEVENT
END:VCALENDAR